BEGIN:VCALENDAR
VERSION:2.0
PRODID:-//Faith Baptist Church - ECPv6.15.13//NONSGML v1.0//EN
CALSCALE:GREGORIAN
METHOD:PUBLISH
X-WR-CALNAME:Faith Baptist Church
X-ORIGINAL-URL:https://faithbaldwinsville.org
X-WR-CALDESC:Events for Faith Baptist Church
REFRESH-INTERVAL;VALUE=DURATION:PT1H
X-Robots-Tag:noindex
X-PUBLISHED-TTL:PT1H
BEGIN:VTIMEZONE
TZID:UTC
BEGIN:STANDARD
TZOFFSETFROM:+0000
TZOFFSETTO:+0000
TZNAME:UTC
DTSTART:20220101T000000
END:STANDARD
END:VTIMEZONE
BEGIN:VEVENT
DTSTART;TZID=UTC:20231202T183000
DTEND;TZID=UTC:20231202T200000
DTSTAMP:20260424T075046
CREATED:20231121T142552Z
LAST-MODIFIED:20231121T142552Z
UID:895-1701541800-1701547200@faithbaldwinsville.org
SUMMARY:EVENING BIBLE STUDY AT THE AUSTIN’S
DESCRIPTION:ALL are welcome! 6:30 PM. We are studying all the “One Another” verses in Scriptures.
URL:https://faithbaldwinsville.org/event/evening-bible-study-at-the-austins/
CATEGORIES:Bible Study
ATTACH;FMTTYPE=image/jpeg:https://faithbaldwinsville.org/wp-content/uploads/2023/11/sincerely-media-dGxOgeXAXm8-unsplash-scaled.jpg
END:VEVENT
END:VCALENDAR