BEGIN:VCALENDAR
VERSION:2.0
PRODID:-//Faith Baptist Church - ECPv6.15.13//NONSGML v1.0//EN
CALSCALE:GREGORIAN
METHOD:PUBLISH
X-WR-CALNAME:Faith Baptist Church
X-ORIGINAL-URL:https://faithbaldwinsville.org
X-WR-CALDESC:Events for Faith Baptist Church
REFRESH-INTERVAL;VALUE=DURATION:PT1H
X-Robots-Tag:noindex
X-PUBLISHED-TTL:PT1H
BEGIN:VTIMEZONE
TZID:UTC
BEGIN:STANDARD
TZOFFSETFROM:+0000
TZOFFSETTO:+0000
TZNAME:UTC
DTSTART:20220101T000000
END:STANDARD
END:VTIMEZONE
BEGIN:VEVENT
DTSTART;TZID=UTC:20241221T160000
DTEND;TZID=UTC:20241221T180000
DTSTAMP:20260424T030843
CREATED:20241124T115700Z
LAST-MODIFIED:20241124T115700Z
UID:1664-1734796800-1734804000@faithbaldwinsville.org
SUMMARY:Christmas Caroling
DESCRIPTION:
URL:https://faithbaldwinsville.org/event/christmas-caroling/
CATEGORIES:Christmas
END:VEVENT
BEGIN:VEVENT
DTSTART;TZID=UTC:20241207T100000
DTEND;TZID=UTC:20241207T120000
DTSTAMP:20260424T030843
CREATED:20241124T115448Z
LAST-MODIFIED:20241124T115448Z
UID:1660-1733565600-1733572800@faithbaldwinsville.org
SUMMARY:Ladies’ Ornament Exchange
DESCRIPTION:
URL:https://faithbaldwinsville.org/event/ladies-ornament-exchange/
CATEGORIES:Christmas
END:VEVENT
BEGIN:VEVENT
DTSTART;TZID=UTC:20241130T090000
DTEND;TZID=UTC:20241130T230000
DTSTAMP:20260424T030843
CREATED:20241124T114728Z
LAST-MODIFIED:20241124T114728Z
UID:1656-1732957200-1733007600@faithbaldwinsville.org
SUMMARY:Greening the Church
DESCRIPTION:
URL:https://faithbaldwinsville.org/event/greening-the-church-2/
LOCATION:Faith Baptist Church\, 7312 Van Buren Road\, Baldwinsville\, NY\, 13027
CATEGORIES:Christmas
END:VEVENT
BEGIN:VEVENT
DTSTART;TZID=UTC:20231224T190000
DTEND;TZID=UTC:20231224T200000
DTSTAMP:20260424T030843
CREATED:20231218T232244Z
LAST-MODIFIED:20231218T232546Z
UID:927-1703444400-1703448000@faithbaldwinsville.org
SUMMARY:Christmas Eve Service
DESCRIPTION:Join us for our Christmas Eve service as we usher in the birth of our Savior!
URL:https://faithbaldwinsville.org/event/christmas-eve-service/
LOCATION:Faith Baptist Church\, 7312 Van Buren Road\, Baldwinsville\, NY\, 13027
CATEGORIES:Christmas
ATTACH;FMTTYPE=image/png:https://faithbaldwinsville.org/wp-content/uploads/2023/12/Black-and-White-Candle-Good-Night-Instagram-post-2.png
END:VEVENT
BEGIN:VEVENT
DTSTART;TZID=UTC:20231202T090000
DTEND;TZID=UTC:20231202T120000
DTSTAMP:20260424T030843
CREATED:20231121T141724Z
LAST-MODIFIED:20231121T141724Z
UID:891-1701507600-1701518400@faithbaldwinsville.org
SUMMARY:GREENING THE CHURCH
DESCRIPTION:Help us celebrate the coming of our savior by joining in the fun of greening the church.  Great time of fellowship.
URL:https://faithbaldwinsville.org/event/greening-the-church/
LOCATION:Faith Baptist Church\, 7312 Van Buren Road\, Baldwinsville\, NY\, 13027
CATEGORIES:Christmas
ATTACH;FMTTYPE=image/jpeg:https://faithbaldwinsville.org/wp-content/uploads/2023/11/denisse-leon-KcvxH3W5T6Q-unsplash-scaled.jpg
END:VEVENT
END:VCALENDAR