BEGIN:VCALENDAR
VERSION:2.0
PRODID:-//Faith Baptist Church - ECPv6.15.13//NONSGML v1.0//EN
CALSCALE:GREGORIAN
METHOD:PUBLISH
X-ORIGINAL-URL:https://faithbaldwinsville.org
X-WR-CALDESC:Events for Faith Baptist Church
REFRESH-INTERVAL;VALUE=DURATION:PT1H
X-Robots-Tag:noindex
X-PUBLISHED-TTL:PT1H
BEGIN:VTIMEZONE
TZID:UTC
BEGIN:STANDARD
TZOFFSETFROM:+0000
TZOFFSETTO:+0000
TZNAME:UTC
DTSTART:20230101T000000
END:STANDARD
END:VTIMEZONE
BEGIN:VEVENT
DTSTART;TZID=UTC:20241017T183000
DTEND;TZID=UTC:20241017T200000
DTSTAMP:20260424T043831
CREATED:20241015T195402Z
LAST-MODIFIED:20241015T195402Z
UID:1593-1729189800-1729195200@faithbaldwinsville.org
SUMMARY:Prayer Meeting
DESCRIPTION:Online Remote Meeting
URL:https://faithbaldwinsville.org/event/prayer-meeting/
CATEGORIES:prayer
ATTACH;FMTTYPE=image/png:https://faithbaldwinsville.org/wp-content/uploads/2024/10/prayer-meeting-.png
END:VEVENT
END:VCALENDAR